BEGIN:VCALENDAR
VERSION:2.0
PRODID:-//Immermann-Gesellschaft e.V. - ECPv6.15.20//NONSGML v1.0//EN
CALSCALE:GREGORIAN
METHOD:PUBLISH
X-ORIGINAL-URL:https://immermanngesellschaft.de
X-WR-CALDESC:Veranstaltungen für Immermann-Gesellschaft e.V.
REFRESH-INTERVAL;VALUE=DURATION:PT1H
X-Robots-Tag:noindex
X-PUBLISHED-TTL:PT1H
BEGIN:VTIMEZONE
TZID:UTC
BEGIN:STANDARD
TZOFFSETFROM:+0000
TZOFFSETTO:+0000
TZNAME:UTC
DTSTART:20230101T000000
END:STANDARD
END:VTIMEZONE
BEGIN:VEVENT
DTSTART;TZID=UTC:20240601T170000
DTEND;TZID=UTC:20240601T190000
DTSTAMP:20260423T125029
CREATED:20240411T214442Z
LAST-MODIFIED:20240411T215400Z
UID:295-1717261200-1717268400@immermanngesellschaft.de
SUMMARY:Maibowle bei Münchhausen: Erik Gloßmann liest Münchhausen
DESCRIPTION:Autor von “Münchhausen”\, Erik Gloßmann\nDie Immermann-Gesellschaft e.V. lädt ein zur Maibowle bei Münchhausen: Erik Gloßmann liest aus “Münchhausen”\, am realen\, historischen Ort\, im Schloss Leitzkau in Gommern\, am 1.6. um 17 Uhr. \nIn der Lesung von Erik Gloßmann wird ein neuer Aspekt des Münchhausen-Mythos’ aufgemacht. \nWährend der Lesung zeichnet der Autor das Lebensbild der historischen Person Münchhausen\, benennt Hintergründe der literarischen Figur und setzt sich mit den Münchhausen-Versionen von Raspe\, Bürger\, Immermann und anderen auseinander. Abschließend liest er einen Abschnitt\, eine Geschichte\, aus seinem nur auf Schwedisch erschienenen Roman: „En Münchhausen för alla tider“ (2002\, Ein Münchhausen für alle Zeiten). Diese Geschichte ist in seinem Werk „Münchhausen“\, das anlässlich des 300. Münchhausen-Geburtstags beim BuchVerlag Leipzig erschienen ist\, veröffentlicht und erweitert damit die zahlreichen Münchhausiaden. Die Lesung stellt eine Premiere dar – kurz nach der Veröffentlichung des vielfältigen Werks 2020 musste die Lesung ausfallen. Das Publikum erhält nun die Möglichkeit\, selbst zu entscheiden\, welche der Geschichten Münchhausens wahr und welche gelogen sind. \nBei einer Diskussion am Ende können die Zuhörer ihre Gedanken zum Gelesenen\, Unterschiede und Gemeinsamkeiten zu realen Persönlichkeiten\, zu „Münchhausen“ von Gottfried August Bürger\, Rudolf Erich Raspe und Immermanns Münchhausen mitteilen. Die Besonderheit liegt außerdem in dem realen\, historischen Ort\, da Hilmar von Münchhausen (Schwarze Linie der Familie) Leitzkau 1564 erwarb. \nErik Gloßmann\, geboren 25.04.1961 in Dresden\, aufgewachsen in Cottbus\, 1983 bis 1988 Studium der Nordeuropawissenschaften (Skandinavistik) in Greifswald. Arbeitet seither als Verlagsvertreter\, Kritiker\, Essayist\, Herausgeber und Übersetzer aus dem Schwedischen\, Dänischen und Norwegischen. Mitglied im Kulturhistorischen Verein Friedrichshagen e.V.\, dort vor allem für die Skandinavier in der Berliner/Friedrichshagener Bohéme um 1900 (Ola Hansson\, August Strindberg u.a.) zuständig. Herausgeber zweier Prosasammlungen des schwedischen Literaturnobelpreisträgers Pär Lagerkvist in deutscher Sprache („Schlimme Geschichten“ und „In dieser Zeit“)\, des Bandes „Klassisch gut: Strindberg Zitate“\, einer dreibändigen Werkauswahl Ola Hanssons („Sensitiva amorosa“\, „Nietzsche“ und „Parias“) sowie einer Auswahl der „Potsdamer Pastelle“ von Ludwig Sternaux. \nGefördert durch die Arbeitsgemeinschaft Literarischer Gesellschaften und Gedenkstätten aus Mitteln der Beauftragten der Bundesregierung für Kultur und Medien. \n \nLogo ALG
URL:https://immermanngesellschaft.de/veranstaltungen/maibowle-bei-muenchhausen-erik-glossmann-liest-muenchhausen/
LOCATION:Schloss Leitzkau\, Am Schloß 4\, 39279 Gommern\, Schloss Leitzkau\, Sachsen-Anhalt\, 39279\, Deutschland
ORGANIZER;CN="Immermann-Gesellschaft e.V.":MAILTO:immermanngesellschaft@gmx.de
END:VEVENT
END:VCALENDAR