BEGIN:VCALENDAR
VERSION:2.0
PRODID:-//Immermann-Gesellschaft e.V. - ECPv6.15.20//NONSGML v1.0//EN
CALSCALE:GREGORIAN
METHOD:PUBLISH
X-WR-CALNAME:Immermann-Gesellschaft e.V.
X-ORIGINAL-URL:https://immermanngesellschaft.de
X-WR-CALDESC:Veranstaltungen für Immermann-Gesellschaft e.V.
REFRESH-INTERVAL;VALUE=DURATION:PT1H
X-Robots-Tag:noindex
X-PUBLISHED-TTL:PT1H
BEGIN:VTIMEZONE
TZID:UTC
BEGIN:STANDARD
TZOFFSETFROM:+0000
TZOFFSETTO:+0000
TZNAME:UTC
DTSTART:20240101T000000
END:STANDARD
END:VTIMEZONE
BEGIN:VEVENT
DTSTART;TZID=UTC:20251007T180000
DTEND;TZID=UTC:20251007T193000
DTSTAMP:20260421T101238
CREATED:20250421T142331Z
LAST-MODIFIED:20250421T142331Z
UID:394-1759860000-1759865400@immermanngesellschaft.de
SUMMARY:Vortrag bei der Volkshochschule Magdeburg: Carl Immermann - „Welch einen großen Dichter haben wir Deutschen verloren"
DESCRIPTION:„Welch einen großen Dichter haben wir Deutschen verloren…“\, sagte Heinrich Heine über den Schriftsteller Carl Leberecht Immermann (1796–1840).  Aus Anlass seines 185. Todestags wird Katharina Schaare\, Vorstandsvorsitzende der Immermann-Gesellschaft e.V.\, an diesem Abend über das Leben und Werk des in Magdeburg geborenen Schriftstellers sprechen. Das Immermann-Jubiläum 2025 wird mit mehreren Veranstaltungen in Düsseldorf und Magdeburg begangen. Im Rahmen des Jubiläumsjahres werden Immermanns Wirkung in Düsseldorf und Magdeburg\, seine literarischen Leistungen sowie seine Theaterreformen gewürdigt. Der Schriftsteller leitete das Düsseldorfer Stadttheater und setzte mit anspruchsvollen Inszenierungen neue Maßstäbe. Bekannt wurde er u.a. durch die Romane „Die Epigonen“ und „Münchhausen“. Die Kulturwissenschaftlerin Katharina Schaare stellt den Schriftsteller vor\, beleuchtet Immermann-Orte in Magdeburg und anderswo und liest Auszüge aus Gedichten und Romanen. \nEine Voranmeldung über die Volkshochschule muss erfolgen. Die Anmeldung ist erst zum Beginn des Herbstsemesters der Volkshochschule möglich. \nImmermann-Brunnen in Magdeburg
URL:https://immermanngesellschaft.de/veranstaltungen/vortrag-bei-der-volkshochschule-magdeburg-carl-immermann-welch-einen-grossen-dichter-haben-wir-deutschen-verloren/
LOCATION:Volkshochschule Magdeburg\, Leibnizstr. 23\, Magdeburg\, Sachsen-Anhalt\, 39104\, Germany
ORGANIZER;CN="Immermann-Gesellschaft e.V.":MAILTO:immermanngesellschaft@gmx.de
END:VEVENT
END:VCALENDAR